BEGIN:VCALENDAR
VERSION:2.0
PRODID:-//Wolf and Fox Winery - ECPv6.15.17.1//NONSGML v1.0//EN
CALSCALE:GREGORIAN
METHOD:PUBLISH
X-ORIGINAL-URL:https://wolfandfoxwinery.com
X-WR-CALDESC:Events for Wolf and Fox Winery
REFRESH-INTERVAL;VALUE=DURATION:PT1H
X-Robots-Tag:noindex
X-PUBLISHED-TTL:PT1H
BEGIN:VTIMEZONE
TZID:America/Chicago
BEGIN:DAYLIGHT
TZOFFSETFROM:-0600
TZOFFSETTO:-0500
TZNAME:CDT
DTSTART:20250309T080000
END:DAYLIGHT
BEGIN:STANDARD
TZOFFSETFROM:-0500
TZOFFSETTO:-0600
TZNAME:CST
DTSTART:20251102T070000
END:STANDARD
BEGIN:DAYLIGHT
TZOFFSETFROM:-0600
TZOFFSETTO:-0500
TZNAME:CDT
DTSTART:20260308T080000
END:DAYLIGHT
BEGIN:STANDARD
TZOFFSETFROM:-0500
TZOFFSETTO:-0600
TZNAME:CST
DTSTART:20261101T070000
END:STANDARD
BEGIN:DAYLIGHT
TZOFFSETFROM:-0600
TZOFFSETTO:-0500
TZNAME:CDT
DTSTART:20270314T080000
END:DAYLIGHT
BEGIN:STANDARD
TZOFFSETFROM:-0500
TZOFFSETTO:-0600
TZNAME:CST
DTSTART:20271107T070000
END:STANDARD
END:VTIMEZONE
BEGIN:VEVENT
DTSTART;TZID=America/Chicago:20260821T170000
DTEND;TZID=America/Chicago:20260821T200000
DTSTAMP:20260423T040648
CREATED:20260115T211953Z
LAST-MODIFIED:20260115T212010Z
UID:10000098-1787331600-1787342400@wolfandfoxwinery.com
SUMMARY:Farm to Table Dinner with Heirloom Kitchen
DESCRIPTION:
URL:https://wolfandfoxwinery.com/event/farm-to-table-dinner/
ATTACH;FMTTYPE=image/jpeg:https://wolfandfoxwinery.com/wp-content/uploads/2025/08/Untitled-design4.jpg
END:VEVENT
BEGIN:VEVENT
DTSTART;TZID=America/Chicago:20260822T150000
DTEND;TZID=America/Chicago:20260822T173000
DTSTAMP:20260423T040648
CREATED:20260225T165940Z
LAST-MODIFIED:20260226T002543Z
UID:10000129-1787410800-1787419800@wolfandfoxwinery.com
SUMMARY:Barn Concert Series: Elysian Stew
DESCRIPTION:“Elysian Stew\,” also known as Patrick Zyduck\, is an instrumental finger style guitar player. Pat is renowned for his unique style that blends alternate tunings and western musical elements. His ability to weave complex melodies and harmonies together\, create a captivating and dynamic sound that reflects his diverse influences. His performances are often described as technically impressive and emotionally evocative. “Elysian Stew” has garnered a loyal following of guitar enthusiasts who admire his musicianship and his contributions to the evolution of the guitar as a solo instrument. \n“A little old. A little new. Mostly mine\, but others too. Mix together. Let it simmer. So delightful. Elysian Stew.”
URL:https://wolfandfoxwinery.com/event/barn-concert-series-elysian-stew/
CATEGORIES:Barn Concert
ATTACH;FMTTYPE=image/jpeg:https://wolfandfoxwinery.com/wp-content/uploads/2026/02/image5.jpeg
END:VEVENT
BEGIN:VEVENT
DTSTART;TZID=America/Chicago:20260829T100000
DTEND;TZID=America/Chicago:20260829T130000
DTSTAMP:20260423T040648
CREATED:20260115T215026Z
LAST-MODIFIED:20260115T215223Z
UID:10000099-1787997600-1788008400@wolfandfoxwinery.com
SUMMARY:Fall Fashion Show with Lillian's Boutique
DESCRIPTION:
URL:https://wolfandfoxwinery.com/event/fall-fashion-show-with-lillians-boutique/
ATTACH;FMTTYPE=image/jpeg:https://wolfandfoxwinery.com/wp-content/uploads/2025/11/IMG_8261-scaled.jpeg
END:VEVENT
BEGIN:VEVENT
DTSTART;TZID=America/Chicago:20260829T150000
DTEND;TZID=America/Chicago:20260829T173000
DTSTAMP:20260423T040648
CREATED:20260225T170326Z
LAST-MODIFIED:20260311T213102Z
UID:10000130-1788015600-1788024600@wolfandfoxwinery.com
SUMMARY:Barn Concert Series: Hanna Simone & Elly Bird
DESCRIPTION:Hanna Simone and Elly Bird are a vocal/guitar partnership\, as well as writer/producer in the Milwaukee area. Hanna and Elly are collaborating on Simone’s 2026 EP “Love Letter”. \nThey have performed live shows together for 6 years throughout the midwest. They have played Summerfest\, American Family Field\, Summer Soulstice\, Summer Sounds\, and Sheboygan’s Levitt Amp Series. They also completed their first tour in May 2025 playing shows in Arkansas\, Tennessee\, Louisiana\, and Texas. The combination of Elly’s dynamic rhythm guitar and Hanna’s vulnerable lyricism with a soulful voice create a powerful experience.
URL:https://wolfandfoxwinery.com/event/barn-concert-series-hanna-simone-the-early-birds/
CATEGORIES:Barn Concert
ATTACH;FMTTYPE=image/png:https://wolfandfoxwinery.com/wp-content/uploads/2026/02/Hanna-Simone-Elly-Bird.png
END:VEVENT
BEGIN:VEVENT
DTSTART;TZID=America/Chicago:20260905T130000
DTEND;TZID=America/Chicago:20260905T180000
DTSTAMP:20260423T040648
CREATED:20260311T173601Z
LAST-MODIFIED:20260311T173601Z
UID:10000159-1788613200-1788631200@wolfandfoxwinery.com
SUMMARY:Wood fired Pizza on the Farm with Fiamma del Forno
DESCRIPTION:
URL:https://wolfandfoxwinery.com/event/wood-fired-pizza-on-the-farm-with-fiamma-del-forno/2026-09-05/
CATEGORIES:Pizza on the Farm
ATTACH;FMTTYPE=image/jpeg:https://wolfandfoxwinery.com/wp-content/uploads/2025/06/Black-Orange-Pizza-Promotion-Instagram-Post-Portrait-Instagram-Post-45.jpg
END:VEVENT
BEGIN:VEVENT
DTSTART;TZID=America/Chicago:20260905T130000
DTEND;TZID=America/Chicago:20260905T183000
DTSTAMP:20260423T040648
CREATED:20260303T232955Z
LAST-MODIFIED:20260303T233336Z
UID:10000143-1788613200-1788633000@wolfandfoxwinery.com
SUMMARY:Pizza on the Farm
DESCRIPTION:Fiamma del Forno is our go-to wood fired pizza maker and we invite you to join us for hot and fresh pizza pies paired with our delicious wines all day long!
URL:https://wolfandfoxwinery.com/event/pizza-on-the-farm/2026-09-05/
CATEGORIES:Pizza on the Farm
ATTACH;FMTTYPE=image/jpeg:https://wolfandfoxwinery.com/wp-content/uploads/2025/09/39A995A3-659A-4E4C-B073-A72324ED82C3_1_105_c.jpeg
END:VEVENT
BEGIN:VEVENT
DTSTART;TZID=America/Chicago:20260905T150000
DTEND;TZID=America/Chicago:20260905T173000
DTSTAMP:20260423T040648
CREATED:20260225T171044Z
LAST-MODIFIED:20260225T193920Z
UID:10000131-1788620400-1788629400@wolfandfoxwinery.com
SUMMARY:Barn Concert Series: Frankie & Viv
DESCRIPTION:Frankie and Vivian are a sibling duo based in eastern Wisconsin.   For the last couple years they have been performing live and raising vibes. \nFrankie is the guitarist for the jam-infused band Vendetta Ride\, as well as a pianist trained in classical music and jazz.  A few of his major influences are John Mayer\, Dave Matthews\, Billie Strings\, D’Angelo\, and Red Garland.    \nViv released her fourth single\, It Wouldn’t Happen (Live from Wolf & Fox)\, a live recording of Frankie and Viv’s performance of her unreleased song\, It Wouldn’t Happen\, in October 2025. It is available everywhere under the name Vivian Marie. Her many musical influences include Lizzy McAlpine\, Gracie Abrams\, Laufey\, Taylor Swift\, Noah Kahan\, The Beatles and Maisie Peters.  \nPerforming solo or as a duo\, they are talented and uniquely entertaining.
URL:https://wolfandfoxwinery.com/event/barn-concert-series-frankie-viv/
CATEGORIES:Barn Concert
ATTACH;FMTTYPE=image/png:https://wolfandfoxwinery.com/wp-content/uploads/2026/02/Frankie-Viv.png
END:VEVENT
BEGIN:VEVENT
DTSTART;TZID=America/Chicago:20260912T150000
DTEND;TZID=America/Chicago:20260912T173000
DTSTAMP:20260423T040648
CREATED:20260225T172049Z
LAST-MODIFIED:20260311T214401Z
UID:10000132-1789225200-1789234200@wolfandfoxwinery.com
SUMMARY:Barn Concert Series: Kyle Megna Duo
DESCRIPTION:Kyle Megna and the Monsoons (2017 & 2018 Wisconsin Area Music Industry Alternative Rock/Rock Artist of the year 2018 Male Vocalist of the year.) are an original Wisconsin band with an ever-growing following locally and beyond.The Monsoons are a tight-knit group of accomplished\, charismatic musicians with diverse backgrounds\, these guys know how to have fun while always keeping it professional. Best seen live\, they feed off the vibe of the crowd as well as each other. With elements of Rock\, Jazz\, Blues\, Folk\, and pop The Monsoons are a magnetic force that’s ever-charged with surges of creativity and emotion that brings music lovers from many genres together. Music heals us all\, and that’s what The Monsoons are out to do.
URL:https://wolfandfoxwinery.com/event/barn-concert-series-kyle-megna-duo/
CATEGORIES:Barn Concert
ATTACH;FMTTYPE=image/png:https://wolfandfoxwinery.com/wp-content/uploads/2026/02/8AF923AA-944D-440D-856E-B840D9F9902A.png
END:VEVENT
BEGIN:VEVENT
DTSTART;TZID=America/Chicago:20260919T130000
DTEND;TZID=America/Chicago:20260919T180000
DTSTAMP:20260423T040648
CREATED:20260311T173049Z
LAST-MODIFIED:20260311T173049Z
UID:10000155-1789822800-1789840800@wolfandfoxwinery.com
SUMMARY:Harvest Street Food Truck
DESCRIPTION:Harvest Street is a mobile food trailer offering elevated\, ingredient-driven street food and custom catering. Our menus change seasonally\, allowing us to highlight fresh ingredients while staying creative and approachable.Based in Sheboygan County\, Wisconsin\, we provide catering for private events\, weddings\, corporate gatherings\, and community celebrations. Each event features a chef-curated menu designed to fit the occasion.
URL:https://wolfandfoxwinery.com/event/harvest-street-food-truck/2026-09-19/
CATEGORIES:Food Truck
ATTACH;FMTTYPE=image/jpeg:https://wolfandfoxwinery.com/wp-content/uploads/2026/03/Unknown-1.jpeg
END:VEVENT
BEGIN:VEVENT
DTSTART;TZID=America/Chicago:20260919T150000
DTEND;TZID=America/Chicago:20260919T173000
DTSTAMP:20260423T040648
CREATED:20260225T173130Z
LAST-MODIFIED:20260226T002838Z
UID:10000133-1789830000-1789839000@wolfandfoxwinery.com
SUMMARY:Barn Concert Series: Lucky Pickers
DESCRIPTION:Americana/bluegrass inspired duo consisting of Despina Pafralides & Caleb Peters.
URL:https://wolfandfoxwinery.com/event/barn-concert-series-lucky-pickers/
CATEGORIES:Barn Concert
ATTACH;FMTTYPE=image/jpeg:https://wolfandfoxwinery.com/wp-content/uploads/2026/02/626305377_1474302641367225_9162402971831411938_n-1.jpg
END:VEVENT
BEGIN:VEVENT
DTSTART;VALUE=DATE:20260925
DTEND;VALUE=DATE:20260926
DTSTAMP:20260423T040648
CREATED:20260115T215658Z
LAST-MODIFIED:20260115T215658Z
UID:10000100-1790294400-1790380799@wolfandfoxwinery.com
SUMMARY:Closed for Private Event
DESCRIPTION:
URL:https://wolfandfoxwinery.com/event/closed-for-private-event-5/
CATEGORIES:Private Event
ATTACH;FMTTYPE=image/jpeg:https://wolfandfoxwinery.com/wp-content/uploads/2025/11/IMG_1439.jpeg
END:VEVENT
BEGIN:VEVENT
DTSTART;VALUE=DATE:20260926
DTEND;VALUE=DATE:20260927
DTSTAMP:20260423T040648
CREATED:20260115T215805Z
LAST-MODIFIED:20260115T220036Z
UID:10000101-1790380800-1790467199@wolfandfoxwinery.com
SUMMARY:Closed for Private Event
DESCRIPTION:
URL:https://wolfandfoxwinery.com/event/closed-for-private-event-6/
CATEGORIES:Private Event
ATTACH;FMTTYPE=image/jpeg:https://wolfandfoxwinery.com/wp-content/uploads/2025/11/IMG_1439.jpeg
END:VEVENT
BEGIN:VEVENT
DTSTART;VALUE=DATE:20261003
DTEND;VALUE=DATE:20261004
DTSTAMP:20260423T040648
CREATED:20260115T215950Z
LAST-MODIFIED:20260115T215950Z
UID:10000102-1790985600-1791071999@wolfandfoxwinery.com
SUMMARY:Closed for Private Event
DESCRIPTION:
URL:https://wolfandfoxwinery.com/event/closed-for-private-event-7/
CATEGORIES:Private Event
ATTACH;FMTTYPE=image/jpeg:https://wolfandfoxwinery.com/wp-content/uploads/2025/09/1C530663-1044-4CE2-BA78-A280AE6D442C_1_105_c.jpeg
END:VEVENT
BEGIN:VEVENT
DTSTART;VALUE=DATE:20261010
DTEND;VALUE=DATE:20261011
DTSTAMP:20260423T040648
CREATED:20260115T220221Z
LAST-MODIFIED:20260115T220221Z
UID:10000103-1791590400-1791676799@wolfandfoxwinery.com
SUMMARY:Closed for Private Event
DESCRIPTION:
URL:https://wolfandfoxwinery.com/event/closed-for-private-event-8/
CATEGORIES:Private Event
ATTACH;FMTTYPE=image/jpeg:https://wolfandfoxwinery.com/wp-content/uploads/2025/09/8E475281-8AA4-4D37-A5B6-B85301A346A6_1_105_c.jpeg
END:VEVENT
BEGIN:VEVENT
DTSTART;TZID=America/Chicago:20261017T150000
DTEND;TZID=America/Chicago:20261017T173000
DTSTAMP:20260423T040648
CREATED:20260303T230418Z
LAST-MODIFIED:20260311T215457Z
UID:10000136-1792249200-1792258200@wolfandfoxwinery.com
SUMMARY:Barn Concert Series: Listening Party
DESCRIPTION:Over the last decade\, Milwaukee-based band Listening Party has sought to create songs that deeply resonate with their listeners. Their folk and Americana-steeped sound expertly and reverently takes the pulse and traditions of their genre while adding their own charm. Milwaukee-based Shepherd Express even compared the band to The Avett Brothers and The Lumineers. They’ve stayed busy with shows ranging from dive bars to regular main stage performances at Summerfest. Pounding the pavement for over 120 shows a year throughout Wisconsin and the Midwest has led them to a road-tested live performance. \nMuch like Bob Dylan and Jon Prine and more current contemporaries such as The Avett Brothers and The Lumineers\, Milwaukee\, WI-based band Listening Party is indebted to the traditions of folk\, rock and Americana and taking those styles to new horizons. At the heart of their sound\, storytelling and melody reign supreme\, with songs seeking to examine stories rooted in the joys and perils of life.
URL:https://wolfandfoxwinery.com/event/barn-concert-series-listening-party/
CATEGORIES:Barn Concert
ATTACH;FMTTYPE=image/webp:https://wolfandfoxwinery.com/wp-content/uploads/2026/03/meta_eyJzcmNCdWNrZXQiOiJiemdsZmlsZXMifQ-copy.webp
END:VEVENT
END:VCALENDAR