BEGIN:VCALENDAR
VERSION:2.0
PRODID:-//Wolf and Fox Winery - ECPv6.15.17.1//NONSGML v1.0//EN
CALSCALE:GREGORIAN
METHOD:PUBLISH
X-ORIGINAL-URL:https://wolfandfoxwinery.com
X-WR-CALDESC:Events for Wolf and Fox Winery
REFRESH-INTERVAL;VALUE=DURATION:PT1H
X-Robots-Tag:noindex
X-PUBLISHED-TTL:PT1H
BEGIN:VTIMEZONE
TZID:America/Chicago
BEGIN:DAYLIGHT
TZOFFSETFROM:-0600
TZOFFSETTO:-0500
TZNAME:CDT
DTSTART:20240310T080000
END:DAYLIGHT
BEGIN:STANDARD
TZOFFSETFROM:-0500
TZOFFSETTO:-0600
TZNAME:CST
DTSTART:20241103T070000
END:STANDARD
BEGIN:DAYLIGHT
TZOFFSETFROM:-0600
TZOFFSETTO:-0500
TZNAME:CDT
DTSTART:20250309T080000
END:DAYLIGHT
BEGIN:STANDARD
TZOFFSETFROM:-0500
TZOFFSETTO:-0600
TZNAME:CST
DTSTART:20251102T070000
END:STANDARD
BEGIN:DAYLIGHT
TZOFFSETFROM:-0600
TZOFFSETTO:-0500
TZNAME:CDT
DTSTART:20260308T080000
END:DAYLIGHT
BEGIN:STANDARD
TZOFFSETFROM:-0500
TZOFFSETTO:-0600
TZNAME:CST
DTSTART:20261101T070000
END:STANDARD
BEGIN:DAYLIGHT
TZOFFSETFROM:-0600
TZOFFSETTO:-0500
TZNAME:CDT
DTSTART:20270314T080000
END:DAYLIGHT
BEGIN:STANDARD
TZOFFSETFROM:-0500
TZOFFSETTO:-0600
TZNAME:CST
DTSTART:20271107T070000
END:STANDARD
END:VTIMEZONE
BEGIN:VEVENT
DTSTART;TZID=America/Chicago:20260117T130000
DTEND;TZID=America/Chicago:20260117T180000
DTSTAMP:20260423T041122
CREATED:20260109T201107Z
LAST-MODIFIED:20260109T201107Z
UID:10000083-1768654800-1768672800@wolfandfoxwinery.com
SUMMARY:Vinyl & Vino
DESCRIPTION:We’re happy to announce the return of Vinyl & Vino for 2026! Every Saturday in January we’ll be curating a collection of music based on what we love to listen to and pouring our delicious wines so come on out to the homestead for great wine and a good time. Bonus: To beat the winter blues we’ve decided to have “wine time” on Saturdays too. That means $2 off all bottles from 4-6pm. Cheers\, y’all!
URL:https://wolfandfoxwinery.com/event/vinyl-vino-2/
ATTACH;FMTTYPE=image/jpeg:https://wolfandfoxwinery.com/wp-content/uploads/2026/01/Vinyl-Vino-southern-music-1.jpg
END:VEVENT
BEGIN:VEVENT
DTSTART;TZID=America/Chicago:20260110T130000
DTEND;TZID=America/Chicago:20260110T180000
DTSTAMP:20260423T041122
CREATED:20260109T202427Z
LAST-MODIFIED:20260109T203236Z
UID:10000086-1768050000-1768068000@wolfandfoxwinery.com
SUMMARY:Grazing A Go Go is at Wolf & Fox Winery
DESCRIPTION:Our favorite woman owned small business will be here with delicious charcuterie cups to enjoy with your wine tasting. Join us!
URL:https://wolfandfoxwinery.com/event/grazing-a-go-go-is-at-wolf-fox-winery/
ATTACH;FMTTYPE=image/jpeg:https://wolfandfoxwinery.com/wp-content/uploads/2026/01/1A572F19-52FB-4953-8C2D-162292D8B2AF.jpeg
END:VEVENT
BEGIN:VEVENT
DTSTART;TZID=America/Chicago:20260110T130000
DTEND;TZID=America/Chicago:20260110T180000
DTSTAMP:20260423T041122
CREATED:20260109T200950Z
LAST-MODIFIED:20260109T200950Z
UID:10000082-1768050000-1768068000@wolfandfoxwinery.com
SUMMARY:Vinyl & Vino
DESCRIPTION:We’re happy to announce the return of Vinyl & Vino for 2026! Every Saturday in January we’ll be curating a collection of music based on what we love to listen to and pouring our delicious wines so come on out to the homestead for great wine and a good time. Bonus: To beat the winter blues we’ve decided to have “wine time” on Saturdays too. That means $2 off all bottles from 4-6pm. Cheers\, y’all!
URL:https://wolfandfoxwinery.com/event/vinyl-vino/
ATTACH;FMTTYPE=image/jpeg:https://wolfandfoxwinery.com/wp-content/uploads/2026/01/Vinyl-Vino-soul-music.jpg
END:VEVENT
BEGIN:VEVENT
DTSTART;TZID=America/Chicago:20251228T150000
DTEND;TZID=America/Chicago:20251228T170000
DTSTAMP:20260423T041122
CREATED:20251112T220656Z
LAST-MODIFIED:20251112T220656Z
UID:10000079-1766934000-1766941200@wolfandfoxwinery.com
SUMMARY:Songs in the Cellar: Anna Marie
DESCRIPTION:
URL:https://wolfandfoxwinery.com/event/songs-in-the-cellar-anna-marie/
ATTACH;FMTTYPE=image/jpeg:https://wolfandfoxwinery.com/wp-content/uploads/2025/11/Songs-in-the-Cellar.jpg
END:VEVENT
BEGIN:VEVENT
DTSTART;TZID=America/Chicago:20251221T150000
DTEND;TZID=America/Chicago:20251221T170000
DTSTAMP:20260423T041122
CREATED:20251112T220601Z
LAST-MODIFIED:20251112T220601Z
UID:10000078-1766329200-1766336400@wolfandfoxwinery.com
SUMMARY:Songs in the Cellar: Andy Braun
DESCRIPTION:
URL:https://wolfandfoxwinery.com/event/songs-in-the-cellar-andy-braun/
ATTACH;FMTTYPE=image/jpeg:https://wolfandfoxwinery.com/wp-content/uploads/2025/11/Songs-in-the-Cellar.jpg
END:VEVENT
BEGIN:VEVENT
DTSTART;TZID=America/Chicago:20251214T150000
DTEND;TZID=America/Chicago:20251214T170000
DTSTAMP:20260423T041122
CREATED:20251112T220500Z
LAST-MODIFIED:20251112T220500Z
UID:10000077-1765724400-1765731600@wolfandfoxwinery.com
SUMMARY:Songs in the Cellar: 7000 Apart
DESCRIPTION:
URL:https://wolfandfoxwinery.com/event/songs-in-the-cellar-7000-apart/
ATTACH;FMTTYPE=image/jpeg:https://wolfandfoxwinery.com/wp-content/uploads/2025/11/Songs-in-the-Cellar.jpg
END:VEVENT
BEGIN:VEVENT
DTSTART;TZID=America/Chicago:20251207T150000
DTEND;TZID=America/Chicago:20251207T170000
DTSTAMP:20260423T041122
CREATED:20251112T220405Z
LAST-MODIFIED:20251112T220405Z
UID:10000076-1765119600-1765126800@wolfandfoxwinery.com
SUMMARY:Songs in the Cellar: Barefoot Mike
DESCRIPTION:
URL:https://wolfandfoxwinery.com/event/songs-in-the-cellar-barefoot-mike/
ATTACH;FMTTYPE=image/jpeg:https://wolfandfoxwinery.com/wp-content/uploads/2025/11/Songs-in-the-Cellar.jpg
END:VEVENT
BEGIN:VEVENT
DTSTART;TZID=America/Chicago:20251205T130000
DTEND;TZID=America/Chicago:20251205T170000
DTSTAMP:20260423T041122
CREATED:20251106T153453Z
LAST-MODIFIED:20251106T153453Z
UID:10000067-1764939600-1764954000@wolfandfoxwinery.com
SUMMARY:Merry on Main at Wolf and Fox Winery
DESCRIPTION:Get ready to make the season bright with Merry on Main — a city-wide shopping event created to celebrate our amazing local businesses and the community that supports them!\nOn Friday\, December 5th\, shops all around town (and beyond!) will open their doors with festive spirit\, exclusive specials\, and a little extra holiday magic just for you. Each business will have its own hours\, deals\, and experiences — so there’s something new to discover everywhere you go.\n It’s the perfect chance to check off your gift list\, support your favorite local shops\, and maybe even find a few new ones. More than that\, it’s a celebration of what makes our small town special — connection\, collaboration\, and community.\nThese are the same small business owners who show up for fundraisers\, sponsor youth programs\, and pour their hearts back into the place we all call home. Merry on Main is our opportunity to return the love — by shopping local\, sharing smiles\, and making Main Street shine bright this holiday season. \nSo far\, participating businesses include:Chiffon Boutique + BakeryLilybee FlowersWolf + Fox WineryFull Circle Community ClosetNew Holstein True ValueThe Refinery Wellness Center…and more joining every day!\n\nFor information go here: https://www.facebook.com/events/1084816213539422
URL:https://wolfandfoxwinery.com/event/merry-on-main-at-wolf-and-fox-winery/
ATTACH;FMTTYPE=image/jpeg:https://wolfandfoxwinery.com/wp-content/uploads/2025/11/Merry-on-Main-flyer.jpg
END:VEVENT
BEGIN:VEVENT
DTSTART;TZID=America/Chicago:20251130T150000
DTEND;TZID=America/Chicago:20251130T170000
DTSTAMP:20260423T041122
CREATED:20251112T220316Z
LAST-MODIFIED:20251112T220316Z
UID:10000075-1764514800-1764522000@wolfandfoxwinery.com
SUMMARY:Songs in the Cellar: Jacob Fannin
DESCRIPTION:
URL:https://wolfandfoxwinery.com/event/songs-in-the-cellar-jacob-fannin/
ATTACH;FMTTYPE=image/jpeg:https://wolfandfoxwinery.com/wp-content/uploads/2025/11/Songs-in-the-Cellar.jpg
END:VEVENT
BEGIN:VEVENT
DTSTART;TZID=America/Chicago:20251129T150000
DTEND;TZID=America/Chicago:20251129T170000
DTSTAMP:20260423T041122
CREATED:20251112T220233Z
LAST-MODIFIED:20251112T220233Z
UID:10000074-1764428400-1764435600@wolfandfoxwinery.com
SUMMARY:Songs in the Cellar: Ethan Keller
DESCRIPTION:
URL:https://wolfandfoxwinery.com/event/songs-in-the-cellar-ethan-keller/
ATTACH;FMTTYPE=image/jpeg:https://wolfandfoxwinery.com/wp-content/uploads/2025/11/Songs-in-the-Cellar.jpg
END:VEVENT
BEGIN:VEVENT
DTSTART;TZID=America/Chicago:20251129T130000
DTEND;TZID=America/Chicago:20251129T170000
DTSTAMP:20260423T041122
CREATED:20251106T153736Z
LAST-MODIFIED:20251106T153736Z
UID:10000069-1764421200-1764435600@wolfandfoxwinery.com
SUMMARY:Shop Local at Wolf and Fox Winery
DESCRIPTION:Case discount\, wine tastings\, and happy hour bottle pricing for those who visit us the Friday and Saturday after Thanksgiving. We offer gift cards\, merchandise\, and delicious wine for the wine people on your gift list.\n\n*Here’s our unsolicited and wildly biased holiday shopping advice. Avoid the big box or online holiday shopping frenzy and shop local. Money spent in local businesses directly support your local community and enables small businesses to give back to local organizations and causes important to those that live\, work\, and play here in rural Northeastern Wisconsin. Thanks to our past customers\, we have been able to donate a portion of our sales\, labor\, and products this year to benefit our community. We’d love to expand our capacity to do this and we’d love nothing more than for you to be part of that. Thank you to those that continue to support small businesses!
URL:https://wolfandfoxwinery.com/event/shop-local-at-wolf-and-fox-winery-2/
ATTACH;FMTTYPE=image/jpeg:https://wolfandfoxwinery.com/wp-content/uploads/2025/11/Small-Business-Instagram-Post-.jpg
END:VEVENT
BEGIN:VEVENT
DTSTART;TZID=America/Chicago:20251128T130000
DTEND;TZID=America/Chicago:20251128T180000
DTSTAMP:20260423T041122
CREATED:20251106T153642Z
LAST-MODIFIED:20251106T153642Z
UID:10000068-1764334800-1764352800@wolfandfoxwinery.com
SUMMARY:Shop Local at Wolf and Fox Winery
DESCRIPTION:Case discount\, wine tastings\, and happy hour bottle pricing for those who visit us the Friday and Saturday after Thanksgiving. We offer gift cards\, merchandise\, and delicious wine for the wine people on your gift list.\n\n*Here’s our unsolicited and wildly biased holiday shopping advice. Avoid the big box or online holiday shopping frenzy and shop local. Money spent in local businesses directly support your local community and enables small businesses to give back to local organizations and causes important to those that live\, work\, and play here in rural Northeastern Wisconsin. Thanks to our past customers\, we have been able to donate a portion of our sales\, labor\, and products this year to benefit our community. We’d love to expand our capacity to do this and we’d love nothing more than for you to be part of that. Thank you to those that continue to support small businesses!
URL:https://wolfandfoxwinery.com/event/shop-local-at-wolf-and-fox-winery/
ATTACH;FMTTYPE=image/jpeg:https://wolfandfoxwinery.com/wp-content/uploads/2025/11/Small-Business-Instagram-Post-.jpg
END:VEVENT
BEGIN:VEVENT
DTSTART;TZID=America/Chicago:20251123T150000
DTEND;TZID=America/Chicago:20251123T170000
DTSTAMP:20260423T041122
CREATED:20251112T215835Z
LAST-MODIFIED:20251112T220006Z
UID:10000072-1763910000-1763917200@wolfandfoxwinery.com
SUMMARY:Songs in the Cellar: Michael Grabner
DESCRIPTION:
URL:https://wolfandfoxwinery.com/event/songs-in-the-cellar-elysian-stew/
ATTACH;FMTTYPE=image/jpeg:https://wolfandfoxwinery.com/wp-content/uploads/2025/11/Songs-in-the-Cellar.jpg
END:VEVENT
BEGIN:VEVENT
DTSTART;TZID=America/Chicago:20251122T150000
DTEND;TZID=America/Chicago:20251122T170000
DTSTAMP:20260423T041122
CREATED:20251112T220144Z
LAST-MODIFIED:20251112T220144Z
UID:10000073-1763823600-1763830800@wolfandfoxwinery.com
SUMMARY:Songs in the Cellar: Elysian Stew
DESCRIPTION:
URL:https://wolfandfoxwinery.com/event/songs-in-the-cellar-elysian-stew-2/
ATTACH;FMTTYPE=image/jpeg:https://wolfandfoxwinery.com/wp-content/uploads/2025/11/Songs-in-the-Cellar.jpg
END:VEVENT
BEGIN:VEVENT
DTSTART;TZID=America/Chicago:20251122T130000
DTEND;TZID=America/Chicago:20251122T180000
DTSTAMP:20260423T041122
CREATED:20251106T153859Z
LAST-MODIFIED:20251106T153859Z
UID:10000070-1763816400-1763834400@wolfandfoxwinery.com
SUMMARY:Deer Widow Weekend at Wolf and Fox Winery
DESCRIPTION:Start your holiday shopping with a visit to Wolf and Fox Winery. Why not bring home a case of local wine for your family or employees at a happy hour discount? Or purchase gift cards for the wine lovers in your life? Or maybe take home a nice new local winery logo beanie hat for the coming chilly weather? It’s all here for you during deer widow weekend.
URL:https://wolfandfoxwinery.com/event/deer-widow-weekend-at-wolf-and-fox-winery/
ATTACH;FMTTYPE=image/jpeg:https://wolfandfoxwinery.com/wp-content/uploads/2025/11/Deer-Widow-Flyer-Instagram-Post.jpg
END:VEVENT
BEGIN:VEVENT
DTSTART;TZID=America/Chicago:20251121T130000
DTEND;TZID=America/Chicago:20251121T180000
DTSTAMP:20260423T041122
CREATED:20251106T153143Z
LAST-MODIFIED:20251106T154505Z
UID:10000066-1763730000-1763748000@wolfandfoxwinery.com
SUMMARY:Deer Widow Weekend at Wolf and Fox Winery
DESCRIPTION:Start your holiday shopping with a visit to Wolf and Fox Winery. Why not bring home a case of local wine for your family or employees at a happy hour discount? Or purchase gift cards for the wine lovers in your life? Or maybe take home a nice new local winery logo beanie hat for the coming chilly weather? It’s all here for you during deer widow weekend. Cheers y’all!
URL:https://wolfandfoxwinery.com/event/deer-widow-weekend/
ATTACH;FMTTYPE=image/jpeg:https://wolfandfoxwinery.com/wp-content/uploads/2025/11/Deer-Widow-Flyer-Instagram-Post.jpg
END:VEVENT
BEGIN:VEVENT
DTSTART;TZID=America/Chicago:20251120T130000
DTEND;TZID=America/Chicago:20251120T180000
DTSTAMP:20260423T041122
CREATED:20251106T154340Z
LAST-MODIFIED:20251106T154340Z
UID:10000071-1763643600-1763661600@wolfandfoxwinery.com
SUMMARY:Closed to the public- Private Event
DESCRIPTION:
URL:https://wolfandfoxwinery.com/event/closed-to-the-public-private-event/
CATEGORIES:Private Event
END:VEVENT
BEGIN:VEVENT
DTSTART;TZID=America/Chicago:20251031T010000
DTEND;TZID=America/Chicago:20251031T190000
DTSTAMP:20260423T041122
CREATED:20251017T143830Z
LAST-MODIFIED:20251017T143830Z
UID:10000065-1761872400-1761937200@wolfandfoxwinery.com
SUMMARY:Howl-o-ween  Happy Hour
DESCRIPTION:Join us for $2 off all bottles all day. There will be spooky music playing\, a vintage horror movie\, blood red wine flowing\, & sweet treats. Costume contest starts at 6pm. Must be present to win. Winner gets a free bottle of wine and logo beanie. Scary story time for the kids at 6pm. \nNo need to rsvp; just show up\, if you dare.
URL:https://wolfandfoxwinery.com/event/howl-o-ween-happy-hour/
ATTACH;FMTTYPE=image/jpeg:https://wolfandfoxwinery.com/wp-content/uploads/2025/10/Howl-o-ween-Happy-Hour1.jpg
END:VEVENT
BEGIN:VEVENT
DTSTART;TZID=America/Chicago:20251030T170000
DTEND;TZID=America/Chicago:20251030T180000
DTSTAMP:20260423T041122
CREATED:20251017T143631Z
LAST-MODIFIED:20251017T143631Z
UID:10000064-1761843600-1761847200@wolfandfoxwinery.com
SUMMARY:Pumpkin Carving at the Farm
DESCRIPTION:Join us at the winery to show your creativity & carving skills. Open to all ages. $5 per pumpkin\, includes the carving tools. Text us at (920) 522-3196 to RSVP & reserve pumpkin(s).Enjoy $2 off all bottles of wine during this time.
URL:https://wolfandfoxwinery.com/event/pumpkin-carving-at-the-farm/
ATTACH;FMTTYPE=image/jpeg:https://wolfandfoxwinery.com/wp-content/uploads/2025/10/Pumpkin-carving.jpg
END:VEVENT
END:VCALENDAR