BEGIN:VCALENDAR
VERSION:2.0
PRODID:-//Wolf and Fox Winery - ECPv6.15.17.1//NONSGML v1.0//EN
CALSCALE:GREGORIAN
METHOD:PUBLISH
X-ORIGINAL-URL:https://wolfandfoxwinery.com
X-WR-CALDESC:Events for Wolf and Fox Winery
REFRESH-INTERVAL;VALUE=DURATION:PT1H
X-Robots-Tag:noindex
X-PUBLISHED-TTL:PT1H
BEGIN:VTIMEZONE
TZID:America/Chicago
BEGIN:DAYLIGHT
TZOFFSETFROM:-0600
TZOFFSETTO:-0500
TZNAME:CDT
DTSTART:20250309T080000
END:DAYLIGHT
BEGIN:STANDARD
TZOFFSETFROM:-0500
TZOFFSETTO:-0600
TZNAME:CST
DTSTART:20251102T070000
END:STANDARD
BEGIN:DAYLIGHT
TZOFFSETFROM:-0600
TZOFFSETTO:-0500
TZNAME:CDT
DTSTART:20260308T080000
END:DAYLIGHT
BEGIN:STANDARD
TZOFFSETFROM:-0500
TZOFFSETTO:-0600
TZNAME:CST
DTSTART:20261101T070000
END:STANDARD
BEGIN:DAYLIGHT
TZOFFSETFROM:-0600
TZOFFSETTO:-0500
TZNAME:CDT
DTSTART:20270314T080000
END:DAYLIGHT
BEGIN:STANDARD
TZOFFSETFROM:-0500
TZOFFSETTO:-0600
TZNAME:CST
DTSTART:20271107T070000
END:STANDARD
END:VTIMEZONE
BEGIN:VEVENT
DTSTART;TZID=America/Chicago:20260405T130000
DTEND;TZID=America/Chicago:20260405T170000
DTSTAMP:20260423T041410
CREATED:20260303T231058Z
LAST-MODIFIED:20260311T185613Z
UID:10000139-1775394000-1775408400@wolfandfoxwinery.com
SUMMARY:Spring Egg Hunt Weekend for Kids and Grown ups
DESCRIPTION:Join us during our open hours and hunt for eggs at the farm on Easter weekend\, April 3rd\, 4th & 5th. All ages welcome. Some eggs have treats\, some have discounts on purchases. Let’s celebrate spring and all that the warmer days bring.
URL:https://wolfandfoxwinery.com/event/meet-your-local-farmer-field-day/2026-04-05/
CATEGORIES:General Event
ATTACH;FMTTYPE=image/jpeg:https://wolfandfoxwinery.com/wp-content/uploads/2026/03/Untitled-design1.jpg
END:VEVENT
BEGIN:VEVENT
DTSTART;TZID=America/Chicago:20260404T130000
DTEND;TZID=America/Chicago:20260404T180000
DTSTAMP:20260423T041410
CREATED:20260303T231058Z
LAST-MODIFIED:20260311T185613Z
UID:10000138-1775307600-1775325600@wolfandfoxwinery.com
SUMMARY:Spring Egg Hunt Weekend for Kids and Grown ups
DESCRIPTION:Join us during our open hours and hunt for eggs at the farm on Easter weekend\, April 3rd\, 4th & 5th. All ages welcome. Some eggs have treats\, some have discounts on purchases. Let’s celebrate spring and all that the warmer days bring.
URL:https://wolfandfoxwinery.com/event/meet-your-local-farmer-field-day/2026-04-04/
CATEGORIES:General Event
ATTACH;FMTTYPE=image/jpeg:https://wolfandfoxwinery.com/wp-content/uploads/2026/03/Untitled-design1.jpg
END:VEVENT
BEGIN:VEVENT
DTSTART;TZID=America/Chicago:20260403T130000
DTEND;TZID=America/Chicago:20260403T180000
DTSTAMP:20260423T041410
CREATED:20260303T231058Z
LAST-MODIFIED:20260311T185613Z
UID:10000160-1775221200-1775239200@wolfandfoxwinery.com
SUMMARY:Spring Egg Hunt Weekend for Kids and Grown ups
DESCRIPTION:Join us during our open hours and hunt for eggs at the farm on Easter weekend\, April 3rd\, 4th & 5th. All ages welcome. Some eggs have treats\, some have discounts on purchases. Let’s celebrate spring and all that the warmer days bring.
URL:https://wolfandfoxwinery.com/event/meet-your-local-farmer-field-day/2026-04-03/
CATEGORIES:General Event
ATTACH;FMTTYPE=image/jpeg:https://wolfandfoxwinery.com/wp-content/uploads/2026/03/Untitled-design1.jpg
END:VEVENT
BEGIN:VEVENT
DTSTART;TZID=America/Chicago:20260314T130000
DTEND;TZID=America/Chicago:20260314T180000
DTSTAMP:20260423T041410
CREATED:20260304T002228Z
LAST-MODIFIED:20260304T002228Z
UID:10000152-1773493200-1773511200@wolfandfoxwinery.com
SUMMARY:Celebrate St. Patrick's Day (early)
DESCRIPTION:
URL:https://wolfandfoxwinery.com/event/celebrate-st-patricks-day-early/
CATEGORIES:General Event
ATTACH;FMTTYPE=image/jpeg:https://wolfandfoxwinery.com/wp-content/uploads/2026/03/St.-Paddys-Day-2026.jpg
END:VEVENT
END:VCALENDAR